BEGIN:VCALENDAR
VERSION:2.0
PRODID:SchoolNow
CALSCALE:GREGORIAN
BEGIN:VEVENT
UID:ff8340aa-9726-11f0-aa51-02d4aeb81cfd
DTSTAMP:20251204T144159Z
SUMMARY:CDD Board Meeting  - Dec. 2025
LOCATION:The Harrison Ranch Clubhouse\, 5755 Harrison Ranch Blvd\, Parrish\
 , Florida 34219
URL;VALUE=URI:https://www.summerwoodscdd.org/calendar/8650068/cdd-board-mee
 ting-dec-2025
DTSTART:20251204T230000Z
DTEND:20251204T231500Z
ATTACH;FILENAME=2025-12-04-Summer Woods CDD - Revised Final Agenda.pdf;FMTT
 YPE=application/pdf:https://campussuite-storage.s3.amazonaws.com/prod/1558
 894/5e3a27f6-ea9b-11e9-ab8a-0a31933f87ea/3047270/5fa72208-d11f-11f0-9f56-0
 a58a9feac02/file/2025-12-04-Summer Woods CDD - Revised Final Agenda.pdf
END:VEVENT
END:VCALENDAR
